BEGIN:VCALENDAR
VERSION:2.0
METHOD:PUBLISH
BEGIN:VEVENT
UID:WILD_APRICOT_EVENT_2555577_SESSION_1
DTSTART:20170520T000000Z
DTEND:20170520T050000Z
SUMMARY:IPSC Level1 - CLub Match
LOCATION:Range 1
DESCRIPTION:http://hpc.org.nz/event-2555577\n\n\n\n
DTSTAMP:20180123T194701Z
END:VEVENT
END:VCALENDAR
