BEGIN:VCALENDAR
VERSION:2.0
METHOD:PUBLISH
BEGIN:VEVENT
UID:WILD_APRICOT_EVENT_2558562_SESSION_1
DTSTART:20170610T033000Z
DTEND:20170610T053000Z
SUMMARY:HPC Committee Meeting
LOCATION:HPC Clubrooms
DESCRIPTION:http://hpc.org.nz/event-2558562\n\n\n\n
DTSTAMP:20180123T194620Z
END:VEVENT
END:VCALENDAR
