BEGIN:VCALENDAR
VERSION:2.0
METHOD:PUBLISH
BEGIN:VEVENT
UID:WILD_APRICOT_EVENT_2940742_SESSION_1
DTSTART:20180623T000000Z
DTEND:20180623T000000Z
SUMMARY:Monthly Multi Gun
LOCATION:HPC
DESCRIPTION:http://hpc.org.nz/event-2940742\n\n\n\n  More details to be provided closer to the time\n  Stage setup starts at midday\n
DTSTAMP:20191218T003909Z
END:VEVENT
END:VCALENDAR
