BEGIN:VCALENDAR
VERSION:2.0
METHOD:PUBLISH
BEGIN:VEVENT
UID:WILD_APRICOT_EVENT_3035115_SESSION_1
DTSTART:20180825T000000Z
DTEND:20180825T000000Z
SUMMARY:Monthly Multi Gun
LOCATION:HPC Range 5
DESCRIPTION:http://hpc.org.nz/event-3035115\n\nPistol\, Rifle and Shotgun on Range 5\n  More details to be provided closer to the time\n  $10 fee to cover the cost of clays\n  Stage setup starts at midday\n
DTSTAMP:20191218T003847Z
END:VEVENT
END:VCALENDAR
