BEGIN:VCALENDAR
VERSION:2.0
METHOD:PUBLISH
BEGIN:VEVENT
UID:WILD_APRICOT_EVENT_3045673_SESSION_1
DTSTART:20180928T210000Z
DTEND:20180929T000000Z
SUMMARY:NZNRA - NZ Rifle Team Zeroing
LOCATION:Click for additional info
DESCRIPTION:http://hpc.org.nz/event-3045673\n\nRange 5 is booked for Saturday morning so the NZ Rifle Team can zero their target rifles.\n
DTSTAMP:20191218T003825Z
END:VEVENT
END:VCALENDAR
