BEGIN:VCALENDAR
VERSION:2.0
METHOD:PUBLISH
BEGIN:VEVENT
UID:WILD_APRICOT_EVENT_3074901_SESSION_1
DTSTART:20180922T000000Z
DTEND:20180922T000000Z
SUMMARY:Monthly Multi Gun
LOCATION:HPC Range 5
DESCRIPTION:http://hpc.org.nz/event-3074901\n\nPistol\, Shotgun and Rifle on Range 5\n  More details to be provided closer to the time\n  Stage setup starts at midday\n
DTSTAMP:20191218T003836Z
END:VEVENT
END:VCALENDAR
