BEGIN:VCALENDAR
VERSION:2.0
METHOD:PUBLISH
BEGIN:VEVENT
UID:WILD_APRICOT_EVENT_3077301_SESSION_1
DTSTART:20181116T210000Z
DTEND:20181116T230000Z
SUMMARY:Range Safety Officer Course
LOCATION:Click for additional info
DESCRIPTION:http://hpc.org.nz/event-3077301\n\nSafety on the Range is the responsibility of all Range users.\n  It is a requirement for membership with the Heretaunga Pistol Club  that all members successfully complete the Club's Range Safety Officers course within 6 months of joining the Club:\n  HPC Range Safety Officer Course 20170701.doc\n\n  A prerequisite for this course is that you have read and understand the Club's Range Standing Orders and the Open/Close Range Procedures:\n  Collins - HPC RSO - 29 Jan 18 - Amdt 0218.pdf\n\n  HPC OpenClose Range Procedure.pdf\n  The purpose of this course is to ensure all members understand how the Range Standing Orders are applied.\n  When attending this course please ensure you have a printed copy of the Questionnaire and the Declaration with you.\n  There is a copy of the Range Standing Orders available for your reference on the Range beside the Range Office.\n\n  Failure to successfully complete the Range Safety Officers course could adversely affect your membership with the Club.\n  If you are unsure if you are compliant kindly contact the Club secretary.\n\n
DTSTAMP:20191218T003727Z
END:VEVENT
END:VCALENDAR
