BEGIN:VCALENDAR
VERSION:2.0
METHOD:PUBLISH
BEGIN:VEVENT
UID:WILD_APRICOT_EVENT_3103571_SESSION_1
DTSTART:20181026T230000Z
DTEND:20181026T230000Z
SUMMARY:Monthly Multi Gun
LOCATION:HPC Range 1 or 5
DESCRIPTION:http://hpc.org.nz/event-3103571\n\nMore details to be provided closer to the time\n\n  Stage setup starts at midday\n
DTSTAMP:20191218T003814Z
END:VEVENT
END:VCALENDAR
