BEGIN:VCALENDAR
VERSION:2.0
METHOD:PUBLISH
BEGIN:VEVENT
UID:WILD_APRICOT_EVENT_3116052_SESSION_1
DTSTART:20181123T230000Z
DTEND:20181123T230000Z
SUMMARY:Monthly Multi Gun
LOCATION:HPC Range 5
DESCRIPTION:https://hpc.org.nz/event-3116052\n\nPistol\, Shotgun and Rifle on Range 5\n  More details to be provided closer to the time\n  Stage setup starts at midday\n  Round count probably wont exceed\, 100 pistol\, 100 rifle\, 50 shotgun\n\n
DTSTAMP:20260424T120642Z
END:VEVENT
END:VCALENDAR
