BEGIN:VCALENDAR
VERSION:2.0
METHOD:PUBLISH
BEGIN:VEVENT
UID:WILD_APRICOT_EVENT_3160359_SESSION_1
DTSTART:20181214T220000Z
DTEND:20181214T220000Z
SUMMARY:Monthly Multi Gun
LOCATION:HPC Range 5
DESCRIPTION:http://hpc.org.nz/event-3160359\n\nPistol\, Shotgun and Rifle on Range 5\n  More details to be provided closer to the time\n  Stage setup starts at 11am\n
DTSTAMP:20191218T003706Z
END:VEVENT
END:VCALENDAR
