BEGIN:VCALENDAR
VERSION:2.0
METHOD:PUBLISH
BEGIN:VEVENT
UID:WILD_APRICOT_EVENT_3263474_SESSION_1
DTSTART:20190222T230000Z
DTEND:20190222T230000Z
SUMMARY:Monthly Multi Gun
LOCATION:HPC Range 1
DESCRIPTION:http://hpc.org.nz/event-3263474\n\nPistol and Shotgun on Range 1\n  100 rounds for pistol and 25 for shotgun should be enough\, bring more just in case.\n  Stage setup starts at midday\n
DTSTAMP:20191218T003656Z
END:VEVENT
END:VCALENDAR
