BEGIN:VCALENDAR
VERSION:2.0
METHOD:PUBLISH
BEGIN:VEVENT
UID:WILD_APRICOT_EVENT_3324781_SESSION_1
DTSTART:20190329T230000Z
DTEND:20190329T230000Z
SUMMARY:Monthly Multi Gun
LOCATION:HPC Range 5
DESCRIPTION:http://hpc.org.nz/event-3324781\n\nShotgun and Rifle on Range 5\n  Stage setup starts at midday\n
DTSTAMP:20191218T003645Z
END:VEVENT
END:VCALENDAR
